BEGIN:VCALENDAR
VERSION:2.0
PRODID:-//eventon.com NONSGML v1.0//EN
BEGIN:VEVENT
UID:69e5e9002afbd
DTSTAMP:20260420T115112
DTSTART:20221118T065500Z
DTEND:20221118T124000Z
TZID:Europe/Moscow
LOCATION:
SUMMARY:Онлайн-конференция «Актуальные вопросы детской респираторной медицины»
DESCRIPTION: Приглашаем вас принять участие в онлайн-конференции «Актуальные вопросы детской респираторной медицины». Мероприятие состоится 18 ноября 2022 года в г. Волгоград. В ходе этого образовательного мероприятия будут освещены следующие темы: Современный взгляд на БА у детей с позиции международных и отечественных клинических рекомендаций Современные подходы к таргетной терапии БА. Алгоритм ведения детей с ОРВИ[..]
URL:https://mosdetvrach.ru/event-directory/onlayn-konferenciya-aktualnye-vopr/
END:VEVENT
END:VCALENDAR