BEGIN:VCALENDAR
VERSION:2.0
PRODID:-//eventon.com NONSGML v1.0//EN
BEGIN:VEVENT
UID:69e9df97296c7
DTSTAMP:20260423T120007
DTSTART:20221029T070000Z
DTEND:20221029T101000Z
TZID:Europe/Moscow
LOCATION:
SUMMARY:Научно-образовательная конференция «Школа детской респираторной медицины»
DESCRIPTION: Приглашаем вас принять участие в научно-образовательной конференции «Школа детской респираторной медицины»\,  которая входит в проект «Актуальные вопросы детской респираторной медицины».  Мероприятие состоится 29 октября 2022 года. Целевая аудитория: оториноларингологи\,  педиатры\,  пульмонологи\,  врачи общей практики Школа включает в себя следующие лекции: ОРВИ и плановая вакцинация у детей раннего возраста. Подходы к[..]
URL:https://mosdetvrach.ru/event-directory/nauchno-obrazovatelnaya-konferenciya/
END:VEVENT
END:VCALENDAR