BEGIN:VCALENDAR
VERSION:2.0
PRODID:-//eventon.com NONSGML v1.0//EN
BEGIN:VEVENT
UID:69e5e9002aa80
DTSTAMP:20260420T115112
DTSTART:20220524T130000Z
DTEND:20220524T205000Z
TZID:Europe/Moscow
LOCATION:
SUMMARY:Встречая лето. Клещевые и другие трансмиссивные инфекции
DESCRIPTION: На заседании будет представлена эпидемиологическая обстановка по клещевым и природно-очаговым заболеваниям\,  риски для путешественников. Особое внимание будет   уделено принципам профилактики\,  ранней диагностики и дифференциальной диагностики. Также будет представлена характеристика вспышки лихорадки Западного Нила на территории города Москвы в 2021 году. В заседании примут участие специалисты клинического отделения вирусных нейроинфекций ФНЦИРИП[..]
URL:https://mosdetvrach.ru/event-directory/vstrechaya-leto-kleshhevye-i-drugie-trans/var/event_access
END:VEVENT
END:VCALENDAR