BEGIN:VCALENDAR
VERSION:2.0
PRODID:-//eventon.com NONSGML v1.0//EN
BEGIN:VEVENT
UID:69e9dd2a2552b
DTSTAMP:20260423T114946
DTSTART:20221117T210000Z
DTEND:20221119T205900Z
TZID:Europe/Moscow
LOCATION:Морозовская детская городская клиническая больница 4-й Добрынинский пер.\,  д. 1/9
SUMMARY:ХХI Конференция «Эндокринные аспекты в педиатрии»
DESCRIPTION: Научная программа конференции охватывает широкий спектр тем\,  связанных с эндокринной патологией у детей и междисциплинарным подходом в лечении пациентов и включает в себя: пленарные заседания\,  научные симпозиумы\,  обучающие семинары\,  клинические разборы\,  секционные заседания\,  стендовые доклады\,  конкурс молодых ученых\,  школы для практикующих врачей. Целевая аудиторияАкушерство и гинекология\,  Гастроэнтерология\,  Генетика\,  Гигиена детей[..]
URL:https://mosdetvrach.ru/event-directory/khkhi-konferenciya-yendokrinnye-aspekty/
END:VEVENT
END:VCALENDAR