BEGIN:VCALENDAR
VERSION:2.0
PRODID:-//eventon.com NONSGML v1.0//EN
BEGIN:VEVENT
UID:69e5e9570c194
DTSTAMP:20260420T115239
DTSTART:20230317T070000Z
DTEND:20230317T134000Z
TZID:Europe/Moscow
LOCATION:
SUMMARY:Возможности местной антибактериальной терапии в лечении острого риносинусита
DESCRIPTION: О мероприятииПриглашаем вас на лекцию&nbsp;— «Возможности местной антибактериальной терапии в&nbsp;лечении острого риносинусита»\,  которая состоится 17.03.2023 в рамках Межрегиональной научно-практической конференции «Современные вопросы в практике врача-педиатра» по&nbsp;адресу: г. Казань\,  ул. Петербургская\,  д. 1\,  (Гранд Отель Казань)\,  events.webinar.ru . Лектор: Покровская Елена Михайловна&nbsp;— д.м.н.\,  профессор\,  детский оториноларинголог\,  кафедра хирургии ИФМИБ КФУ\,  направление&nbsp;—[..]
URL:https://mosdetvrach.ru/event-directory/vozmozhnosti-mestnoj-antibakterialnoj-terapii-v-lechenii-ostrogo-rinosinusita-3/
END:VEVENT
END:VCALENDAR