BEGIN:VCALENDAR
VERSION:2.0
PRODID:-//eventon.com NONSGML v1.0//EN
BEGIN:VEVENT
UID:69e61b07e0c78
DTSTAMP:20260420T152439
DTSTART:20221116T070000Z
DTEND:20221116T140000Z
TZID:Europe/Moscow
LOCATION:
SUMMARY:Современные подходы к терапии инфекции мочевых путей
DESCRIPTION: О мероприятииПриглашаем вас на лекцию&nbsp;— «Современные подходы к терапии инфекции мочевых путей»\,  которая состоится 16.11.2022&nbsp;г. в рамках Межрегиональной научно-практической конференции «Актуальные вопросы акушерства\,  гинекологии\,  перинатологии\,  репродуктивной медицины и неонатологии» по адресу: г. Новосибирск\,  Красный проспект\,  52\,  Новосибирский государственный медицинский университет\,  3-й этаж\,  конференц-зал. Лектор: Федоренко Виталий Никитович&nbsp;— к.м.н.\,  ассистент кафедры[..]
URL:https://mosdetvrach.ru/event-directory/sovremennye-podhody-k-terapii-infekcii-mochevyh-putej/
END:VEVENT
END:VCALENDAR