BEGIN:VCALENDAR
VERSION:2.0
PRODID:-//eventon.com NONSGML v1.0//EN
BEGIN:VEVENT
UID:69e5e98d18275
DTSTAMP:20260420T115333
DTSTART:20211021T130000Z
DTEND:20211021T143000Z
TZID:Europe/Moscow
LOCATION:
SUMMARY:Час с экспертом. Ранняя диагностика редких заболеваний во время диспансеризации детей на примере МПС: взгляд педиатра\,  ортопеда\,  ревматолога
DESCRIPTION: Приглашаем вас принять участие в вебинаре «Час с экспертом. Ранняя диагностика редких заболеваний во время диспансеризации детей на примере МПС: взгляд педиатра\,  ортопеда\,  ревматолога». Он состоится 21 октября 2021 года. В ходе вебинара будут рассмотрены две&nbsp;темы: Ранняя диагностика МПС в практике врача-педиатра Ранняя диагностика МПС в практике врача-ортопеда. Учебный материал[..]
URL:https://mosdetvrach.ru/event-directory/chas-s-yekspertom-rannyaya-diagnostika-re-2/
END:VEVENT
END:VCALENDAR