BEGIN:VCALENDAR
VERSION:2.0
PRODID:-//eventon.com NONSGML v1.0//EN
BEGIN:VEVENT
UID:69e9dfdb5a543
DTSTAMP:20260423T120115
DTSTART:20210608T070000Z
DTEND:20210608T091500Z
TZID:Europe/Moscow
LOCATION:
SUMMARY:Конференция «Актуальные вопросы детской эндокринологии»
DESCRIPTION: Приглашаем вас принять участие в конференции «Актуальные вопросы детской эндокринологии». Мероприятие состоится 08 июня 2021 года. На конференции будут обсуждаться актуальные вопросы ведения пациентов детского возраста с заболеваниями эндокринных органов. В рамках конференции состоится симпозиум по современным технологиям самоконтроля диабета в детском возрасте. Лекционные материалы содержат самую актуальную информацию по[..]
URL:https://mosdetvrach.ru/event-directory/konferenciya-aktualnye-voprosy-det/
END:VEVENT
END:VCALENDAR